BEGIN:VCALENDAR
VERSION:2.0
PRODID:-//McCallum High School Orchestra - ECPv6.15.20//NONSGML v1.0//EN
CALSCALE:GREGORIAN
METHOD:PUBLISH
X-WR-CALNAME:McCallum High School Orchestra
X-ORIGINAL-URL:https://mccallumorchestra.org
X-WR-CALDESC:Events for McCallum High School Orchestra
REFRESH-INTERVAL;VALUE=DURATION:PT1H
X-Robots-Tag:noindex
X-PUBLISHED-TTL:PT1H
BEGIN:VTIMEZONE
TZID:UTC
BEGIN:STANDARD
TZOFFSETFROM:+0000
TZOFFSETTO:+0000
TZNAME:UTC
DTSTART:20220101T000000
END:STANDARD
END:VTIMEZONE
BEGIN:VTIMEZONE
TZID:America/New_York
BEGIN:DAYLIGHT
TZOFFSETFROM:-0500
TZOFFSETTO:-0400
TZNAME:EDT
DTSTART:20220313T070000
END:DAYLIGHT
BEGIN:STANDARD
TZOFFSETFROM:-0400
TZOFFSETTO:-0500
TZNAME:EST
DTSTART:20221106T060000
END:STANDARD
BEGIN:DAYLIGHT
TZOFFSETFROM:-0500
TZOFFSETTO:-0400
TZNAME:EDT
DTSTART:20230312T070000
END:DAYLIGHT
BEGIN:STANDARD
TZOFFSETFROM:-0400
TZOFFSETTO:-0500
TZNAME:EST
DTSTART:20231105T060000
END:STANDARD
BEGIN:DAYLIGHT
TZOFFSETFROM:-0500
TZOFFSETTO:-0400
TZNAME:EDT
DTSTART:20240310T070000
END:DAYLIGHT
BEGIN:STANDARD
TZOFFSETFROM:-0400
TZOFFSETTO:-0500
TZNAME:EST
DTSTART:20241103T060000
END:STANDARD
END:VTIMEZONE
BEGIN:VEVENT
DTSTART;VALUE=DATE:20230608
DTEND;VALUE=DATE:20230613
DTSTAMP:20260425T220223
CREATED:20221217T033105Z
LAST-MODIFIED:20221216T235209Z
UID:3482-1686182400-1686614399@mccallumorchestra.org
SUMMARY:Trip to NYC
DESCRIPTION:
URL:https://mccallumorchestra.org/event/trip-to-nyc/
LOCATION:Texas
ATTACH;FMTTYPE=image/webp:https://mccallumorchestra.org/wp-content/uploads/2022/12/new-york-statue-of-liberty_2x1-scaled.webp
END:VEVENT
BEGIN:VEVENT
DTSTART;TZID=America/New_York:20230611T140000
DTEND;TZID=America/New_York:20230611T160000
DTSTAMP:20260425T220223
CREATED:20221217T033027Z
LAST-MODIFIED:20230603T164526Z
UID:3480-1686492000-1686499200@mccallumorchestra.org
SUMMARY:Carnegie Hall Performance
DESCRIPTION:
URL:https://mccallumorchestra.org/event/carnegie-hall-performance/
LOCATION:Carnegie Hall\, 881 7th Ave\, New York\, NY\, 10019\, United States
ATTACH;FMTTYPE=image/jpeg:https://mccallumorchestra.org/wp-content/uploads/2022/12/Safety-Checklist-HERO.jpeg
END:VEVENT
END:VCALENDAR