BEGIN:VCALENDAR
VERSION:2.0
PRODID:-//McCallum High School Orchestra - ECPv6.15.20//NONSGML v1.0//EN
CALSCALE:GREGORIAN
METHOD:PUBLISH
X-WR-CALNAME:McCallum High School Orchestra
X-ORIGINAL-URL:https://mccallumorchestra.org
X-WR-CALDESC:Events for McCallum High School Orchestra
REFRESH-INTERVAL;VALUE=DURATION:PT1H
X-Robots-Tag:noindex
X-PUBLISHED-TTL:PT1H
BEGIN:VTIMEZONE
TZID:America/Chicago
BEGIN:DAYLIGHT
TZOFFSETFROM:-0600
TZOFFSETTO:-0500
TZNAME:CDT
DTSTART:20220313T080000
END:DAYLIGHT
BEGIN:STANDARD
TZOFFSETFROM:-0500
TZOFFSETTO:-0600
TZNAME:CST
DTSTART:20221106T070000
END:STANDARD
BEGIN:DAYLIGHT
TZOFFSETFROM:-0600
TZOFFSETTO:-0500
TZNAME:CDT
DTSTART:20230312T080000
END:DAYLIGHT
BEGIN:STANDARD
TZOFFSETFROM:-0500
TZOFFSETTO:-0600
TZNAME:CST
DTSTART:20231105T070000
END:STANDARD
BEGIN:DAYLIGHT
TZOFFSETFROM:-0600
TZOFFSETTO:-0500
TZNAME:CDT
DTSTART:20240310T080000
END:DAYLIGHT
BEGIN:STANDARD
TZOFFSETFROM:-0500
TZOFFSETTO:-0600
TZNAME:CST
DTSTART:20241103T070000
END:STANDARD
END:VTIMEZONE
BEGIN:VEVENT
DTSTART;TZID=America/Chicago:20231018T183000
DTEND;TZID=America/Chicago:20231018T210000
DTSTAMP:20260425T154623
CREATED:20230810T224508Z
LAST-MODIFIED:20231019T220639Z
UID:3836-1697653800-1697662800@mccallumorchestra.org
SUMMARY:Fall Concert "Waltz of the Wicked"
DESCRIPTION:Fall Orchestra Concert\, 6:30 PM\, MAC Theater (with Lamar Orchestras) \nhttps://drive.google.com/file/d/1V8lfrisSLmeuYvQSCp9hDz4OKv-atmep/view?usp=share_link \n 
URL:https://mccallumorchestra.org/event/3836/
LOCATION:MAC Theater\, 5600 Sunshine Dr\, Austin\, TX\, 78756\, United States
ATTACH;FMTTYPE=image/jpeg:https://mccallumorchestra.org/wp-content/uploads/2022/12/heroAUS-McCallum-HS-PAC-exterior-dusk-05-0629-1200x630-1.jpeg
END:VEVENT
END:VCALENDAR