BEGIN:VCALENDAR
VERSION:2.0
PRODID:-//McCallum High School Orchestra - ECPv6.15.20//NONSGML v1.0//EN
CALSCALE:GREGORIAN
METHOD:PUBLISH
X-ORIGINAL-URL:https://mccallumorchestra.org
X-WR-CALDESC:Events for McCallum High School Orchestra
REFRESH-INTERVAL;VALUE=DURATION:PT1H
X-Robots-Tag:noindex
X-PUBLISHED-TTL:PT1H
BEGIN:VTIMEZONE
TZID:America/Chicago
BEGIN:DAYLIGHT
TZOFFSETFROM:-0600
TZOFFSETTO:-0500
TZNAME:CDT
DTSTART:20230312T080000
END:DAYLIGHT
BEGIN:STANDARD
TZOFFSETFROM:-0500
TZOFFSETTO:-0600
TZNAME:CST
DTSTART:20231105T070000
END:STANDARD
BEGIN:DAYLIGHT
TZOFFSETFROM:-0600
TZOFFSETTO:-0500
TZNAME:CDT
DTSTART:20240310T080000
END:DAYLIGHT
BEGIN:STANDARD
TZOFFSETFROM:-0500
TZOFFSETTO:-0600
TZNAME:CST
DTSTART:20241103T070000
END:STANDARD
BEGIN:DAYLIGHT
TZOFFSETFROM:-0600
TZOFFSETTO:-0500
TZNAME:CDT
DTSTART:20250309T080000
END:DAYLIGHT
BEGIN:STANDARD
TZOFFSETFROM:-0500
TZOFFSETTO:-0600
TZNAME:CST
DTSTART:20251102T070000
END:STANDARD
END:VTIMEZONE
BEGIN:VEVENT
DTSTART;TZID=America/Chicago:20241212T190000
DTEND;TZID=America/Chicago:20241212T213000
DTSTAMP:20260424T180331
CREATED:20240829T171342Z
LAST-MODIFIED:20240829T171342Z
UID:4188-1734030000-1734039000@mccallumorchestra.org
SUMMARY:Masterworks Concert
DESCRIPTION:Annual event with the choir. Chamber orchestra 
URL:https://mccallumorchestra.org/event/masterworks-concert/
LOCATION:MAC Theater\, 5600 Sunshine Dr\, Austin\, TX\, 78756\, United States
ATTACH;FMTTYPE=image/jpeg:https://mccallumorchestra.org/wp-content/uploads/2022/12/heroAUS-McCallum-HS-PAC-exterior-dusk-05-0629-1200x630-1.jpeg
END:VEVENT
END:VCALENDAR