BEGIN:VCALENDAR
VERSION:2.0
PRODID:-//McCallum High School Orchestra - ECPv6.15.20//NONSGML v1.0//EN
CALSCALE:GREGORIAN
METHOD:PUBLISH
X-ORIGINAL-URL:https://mccallumorchestra.org
X-WR-CALDESC:Events for McCallum High School Orchestra
REFRESH-INTERVAL;VALUE=DURATION:PT1H
X-Robots-Tag:noindex
X-PUBLISHED-TTL:PT1H
BEGIN:VTIMEZONE
TZID:America/Chicago
BEGIN:DAYLIGHT
TZOFFSETFROM:-0600
TZOFFSETTO:-0500
TZNAME:CDT
DTSTART:20240310T080000
END:DAYLIGHT
BEGIN:STANDARD
TZOFFSETFROM:-0500
TZOFFSETTO:-0600
TZNAME:CST
DTSTART:20241103T070000
END:STANDARD
BEGIN:DAYLIGHT
TZOFFSETFROM:-0600
TZOFFSETTO:-0500
TZNAME:CDT
DTSTART:20250309T080000
END:DAYLIGHT
BEGIN:STANDARD
TZOFFSETFROM:-0500
TZOFFSETTO:-0600
TZNAME:CST
DTSTART:20251102T070000
END:STANDARD
BEGIN:DAYLIGHT
TZOFFSETFROM:-0600
TZOFFSETTO:-0500
TZNAME:CDT
DTSTART:20260308T080000
END:DAYLIGHT
BEGIN:STANDARD
TZOFFSETFROM:-0500
TZOFFSETTO:-0600
TZNAME:CST
DTSTART:20261101T070000
END:STANDARD
END:VTIMEZONE
BEGIN:VEVENT
DTSTART;TZID=America/Chicago:20250928T180000
DTEND;TZID=America/Chicago:20250928T200000
DTSTAMP:20260424T012406
CREATED:20250925T174634Z
LAST-MODIFIED:20250925T174634Z
UID:4418-1759082400-1759089600@mccallumorchestra.org
SUMMARY:Parent Social
DESCRIPTION:Adult Social event for all guardians/supporters/parents of Orchestra students this Sunday 9/28 6-8pm at Pins Mechanical 4323 S Congress Ave. Meet up with your kids’ friends’ important adults in their life\, while enjoying old school fun like foosball\, pinball\, duckpin bowling\, arcades\, and more! The students in Orchestra have been asking the MOB to organize a social night for the adults since last year. It’s never possible to find a perfect night for everyone. We want to plan another one in the future but if you are free this Sunday evening\, we would love to see you!
URL:https://mccallumorchestra.org/event/parent-social/
LOCATION:Pins Mechanical\, 4323 S Congress Ave.\, Austin\, TX\, United States
END:VEVENT
END:VCALENDAR