BEGIN:VCALENDAR
VERSION:2.0
PRODID:-//McCallum High School Orchestra - ECPv6.15.20//NONSGML v1.0//EN
CALSCALE:GREGORIAN
METHOD:PUBLISH
X-WR-CALNAME:McCallum High School Orchestra
X-ORIGINAL-URL:https://mccallumorchestra.org
X-WR-CALDESC:Events for McCallum High School Orchestra
REFRESH-INTERVAL;VALUE=DURATION:PT1H
X-Robots-Tag:noindex
X-PUBLISHED-TTL:PT1H
BEGIN:VTIMEZONE
TZID:America/Chicago
BEGIN:DAYLIGHT
TZOFFSETFROM:-0600
TZOFFSETTO:-0500
TZNAME:CDT
DTSTART:20220313T080000
END:DAYLIGHT
BEGIN:STANDARD
TZOFFSETFROM:-0500
TZOFFSETTO:-0600
TZNAME:CST
DTSTART:20221106T070000
END:STANDARD
BEGIN:DAYLIGHT
TZOFFSETFROM:-0600
TZOFFSETTO:-0500
TZNAME:CDT
DTSTART:20230312T080000
END:DAYLIGHT
BEGIN:STANDARD
TZOFFSETFROM:-0500
TZOFFSETTO:-0600
TZNAME:CST
DTSTART:20231105T070000
END:STANDARD
BEGIN:DAYLIGHT
TZOFFSETFROM:-0600
TZOFFSETTO:-0500
TZNAME:CDT
DTSTART:20240310T080000
END:DAYLIGHT
BEGIN:STANDARD
TZOFFSETFROM:-0500
TZOFFSETTO:-0600
TZNAME:CST
DTSTART:20241103T070000
END:STANDARD
BEGIN:DAYLIGHT
TZOFFSETFROM:-0600
TZOFFSETTO:-0500
TZNAME:CDT
DTSTART:20250309T080000
END:DAYLIGHT
BEGIN:STANDARD
TZOFFSETFROM:-0500
TZOFFSETTO:-0600
TZNAME:CST
DTSTART:20251102T070000
END:STANDARD
END:VTIMEZONE
BEGIN:VEVENT
DTSTART;TZID=America/Chicago:20240903T183000
DTEND;TZID=America/Chicago:20240903T203000
DTSTAMP:20260425T095140
CREATED:20240819T192722Z
LAST-MODIFIED:20240904T014948Z
UID:4166-1725388200-1725395400@mccallumorchestra.org
SUMMARY:Family Info Night- "Chicken Dinner"
DESCRIPTION:Mac Orchestra \nCome out for out kick off to the year and learn about all things MAC orchestra. We will meet in the cafeteria. Bring the whole family. We will have food and snacks and present our overview for the year. 
URL:https://mccallumorchestra.org/event/family-info-night-chicken-dinner/
LOCATION:McCallum High School- Cafeteria
ATTACH;FMTTYPE=image/png:https://mccallumorchestra.org/wp-content/uploads/2024/08/Screenshot-2024-09-03-at-8.49.09 PM.png
END:VEVENT
BEGIN:VEVENT
DTSTART;TZID=America/Chicago:20240818T173000
DTEND;TZID=America/Chicago:20240818T190000
DTSTAMP:20260425T095140
CREATED:20240520T001027Z
LAST-MODIFIED:20240520T001027Z
UID:4157-1724002200-1724007600@mccallumorchestra.org
SUMMARY:MOB meeting
DESCRIPTION:
URL:https://mccallumorchestra.org/event/mob-meeting-16/
LOCATION:Violet Crown Coffee Shop\, 7100 Woodrow Ave\, Austin\, Tx\, 78757
ATTACH;FMTTYPE=image/jpeg:https://mccallumorchestra.org/wp-content/uploads/2023/08/256612-e1691419480118.jpeg
END:VEVENT
BEGIN:VEVENT
DTSTART;VALUE=DATE:20240527
DTEND;VALUE=DATE:20240528
DTSTAMP:20260425T095140
CREATED:20230810T231459Z
LAST-MODIFIED:20230810T231459Z
UID:3870-1716768000-1716854399@mccallumorchestra.org
SUMMARY:TSSEC
DESCRIPTION:25th  and 27th  TSSEC @ UTAustin
URL:https://mccallumorchestra.org/event/tssec-4/
LOCATION:University of Texas @ Austin
ATTACH;FMTTYPE=image/jpeg:https://mccallumorchestra.org/wp-content/uploads/2022/12/UTexas.jpeg
END:VEVENT
BEGIN:VEVENT
DTSTART;VALUE=DATE:20240525
DTEND;VALUE=DATE:20240526
DTSTAMP:20260425T095140
CREATED:20230810T231414Z
LAST-MODIFIED:20230810T231414Z
UID:3868-1716595200-1716681599@mccallumorchestra.org
SUMMARY:TSSEC
DESCRIPTION:25th  and 27th  Texas State Solo & Ensemble Competition @ UTAustin
URL:https://mccallumorchestra.org/event/tssec-3/
LOCATION:University of Texas @ Austin
ATTACH;FMTTYPE=image/jpeg:https://mccallumorchestra.org/wp-content/uploads/2022/12/UTexas.jpeg
END:VEVENT
BEGIN:VEVENT
DTSTART;TZID=America/Chicago:20240519T173000
DTEND;TZID=America/Chicago:20240519T173000
DTSTAMP:20260425T095140
CREATED:20240421T235745Z
LAST-MODIFIED:20240421T235745Z
UID:4154-1716139800-1716139800@mccallumorchestra.org
SUMMARY:MOB meeting
DESCRIPTION:
URL:https://mccallumorchestra.org/event/mob-meeting-15/
LOCATION:Violet Crown Coffee Shop\, 7100 Woodrow Ave\, Austin\, Tx\, 78757
ATTACH;FMTTYPE=image/jpeg:https://mccallumorchestra.org/wp-content/uploads/2023/08/256612-e1691419480118.jpeg
END:VEVENT
BEGIN:VEVENT
DTSTART;TZID=America/Chicago:20240515T183000
DTEND;TZID=America/Chicago:20240515T210000
DTSTAMP:20260425T095140
CREATED:20230810T231212Z
LAST-MODIFIED:20240421T225220Z
UID:3866-1715797800-1715806800@mccallumorchestra.org
SUMMARY:Spring Concert
DESCRIPTION:The Music of John Williams.  \nDoors at 6:30. Show at 7
URL:https://mccallumorchestra.org/event/spring-concert-2/
LOCATION:MAC Theater\, 5600 Sunshine Dr\, Austin\, TX\, 78756\, United States
ATTACH;FMTTYPE=image/jpeg:https://mccallumorchestra.org/wp-content/uploads/2022/12/heroAUS-McCallum-HS-PAC-exterior-dusk-05-0629-1200x630-1.jpeg
END:VEVENT
BEGIN:VEVENT
DTSTART;VALUE=DATE:20240513
DTEND;VALUE=DATE:20240514
DTSTAMP:20260425T095140
CREATED:20230810T231035Z
LAST-MODIFIED:20230810T231048Z
UID:3863-1715558400-1715644799@mccallumorchestra.org
SUMMARY:Academy Award Knight
DESCRIPTION:Academy Award night\, time TBD @ MAC (Academy Seniors)
URL:https://mccallumorchestra.org/event/academy-award-night-2/
LOCATION:Texas
ATTACH;FMTTYPE=image/jpeg:https://mccallumorchestra.org/wp-content/uploads/2022/12/McCallumHS-6767.jpeg
END:VEVENT
BEGIN:VEVENT
DTSTART;TZID=America/Chicago:20240507T190000
DTEND;TZID=America/Chicago:20240507T220000
DTSTAMP:20260425T095140
CREATED:20240324T232735Z
LAST-MODIFIED:20240421T234618Z
UID:4143-1715108400-1715119200@mccallumorchestra.org
SUMMARY:Orchestra Banquet
DESCRIPTION:
URL:https://mccallumorchestra.org/event/orchestra-banquet/
LOCATION:The Oasis\, 6550 Comanche Trail\,\, Austin\, TX\, 78732\, United States
ATTACH;FMTTYPE=image/jpeg:https://mccallumorchestra.org/wp-content/uploads/2024/04/oasis-11-1.jpg
END:VEVENT
BEGIN:VEVENT
DTSTART;TZID=America/Chicago:20240503T190000
DTEND;TZID=America/Chicago:20240503T210000
DTSTAMP:20260425T095140
CREATED:20240122T222521Z
LAST-MODIFIED:20240421T224955Z
UID:4136-1714762800-1714770000@mccallumorchestra.org
SUMMARY:Seniors Recital
DESCRIPTION:Come out and support our Orchestra Senoirs as they present pieces from each of their senior recitals 
URL:https://mccallumorchestra.org/event/seniors-recital-tentative/
LOCATION:McCallum FAT\, 5600 Sunshine Drive\, Austin\, TX\, 78756\, United States
ATTACH;FMTTYPE=image/png:https://mccallumorchestra.org/wp-content/uploads/2022/12/FineArtsBuildingTheatre.png
END:VEVENT
BEGIN:VEVENT
DTSTART;TZID=America/Chicago:20240428T140000
DTEND;TZID=America/Chicago:20240428T160000
DTSTAMP:20260425T095140
CREATED:20230810T230911Z
LAST-MODIFIED:20230810T230911Z
UID:3861-1714312800-1714320000@mccallumorchestra.org
SUMMARY:ACMC Spring Concert
DESCRIPTION:ACMC Spring Concert\, 2:00 PM @ FAT
URL:https://mccallumorchestra.org/event/acmc-spring-concert-2/
LOCATION:McCallum FAT\, 5600 Sunshine Drive\, Austin\, TX\, 78756\, United States
ATTACH;FMTTYPE=image/png:https://mccallumorchestra.org/wp-content/uploads/2022/12/FineArtsBuildingTheatre.png
END:VEVENT
BEGIN:VEVENT
DTSTART;VALUE=DATE:20240427
DTEND;VALUE=DATE:20240428
DTSTAMP:20260425T095140
CREATED:20230810T230641Z
LAST-MODIFIED:20230810T230733Z
UID:3857-1714176000-1714262399@mccallumorchestra.org
SUMMARY:AISD Solo and Ensemble
DESCRIPTION:At McCallum. Please note that a pianist is required for any students participating. 
URL:https://mccallumorchestra.org/event/aisd-solo-and-ensemble/
LOCATION:McCallum FAT\, 5600 Sunshine Drive\, Austin\, TX\, 78756\, United States
ATTACH;FMTTYPE=image/jpeg:https://mccallumorchestra.org/wp-content/uploads/2022/12/McCallumHS-6767.jpeg
END:VEVENT
BEGIN:VEVENT
DTSTART;TZID=America/Chicago:20240421T173000
DTEND;TZID=America/Chicago:20240421T173000
DTSTAMP:20260425T095140
CREATED:20240324T234231Z
LAST-MODIFIED:20240324T234231Z
UID:4145-1713720600-1713720600@mccallumorchestra.org
SUMMARY:MOB meeting
DESCRIPTION:
URL:https://mccallumorchestra.org/event/mob-meeting-14/
LOCATION:Violet Crown Coffee Shop\, 7100 Woodrow Ave\, Austin\, Tx\, 78757
ATTACH;FMTTYPE=image/jpeg:https://mccallumorchestra.org/wp-content/uploads/2023/08/256612-e1691419480118.jpeg
END:VEVENT
BEGIN:VEVENT
DTSTART;VALUE=DATE:20240411
DTEND;VALUE=DATE:20240413
DTSTAMP:20260425T095140
CREATED:20230815T233933Z
LAST-MODIFIED:20230815T233933Z
UID:3880-1712793600-1712966399@mccallumorchestra.org
SUMMARY:String UIL Contest
DESCRIPTION:Time TBD
URL:https://mccallumorchestra.org/event/string-uil-contest/
LOCATION:AISD PAC\, 1500 Barbara Jordan Blvd\, Austin\, TX\, 78723\, United States
ATTACH;FMTTYPE=image/jpeg:https://mccallumorchestra.org/wp-content/uploads/2022/12/14_AISDPerformingArtsCenter_Web.jpeg
END:VEVENT
BEGIN:VEVENT
DTSTART;VALUE=DATE:20240404
DTEND;VALUE=DATE:20240408
DTSTAMP:20260425T095140
CREATED:20230830T121532Z
LAST-MODIFIED:20230830T121532Z
UID:3890-1712188800-1712534399@mccallumorchestra.org
SUMMARY:New Orleans Trip
DESCRIPTION:More details to come. 
URL:https://mccallumorchestra.org/event/new-orleans-trip/
LOCATION:Texas
ATTACH;FMTTYPE=image/jpeg:https://mccallumorchestra.org/wp-content/uploads/2023/08/NOLA-_Shutterstock-163568519-2.jpeg
END:VEVENT
BEGIN:VEVENT
DTSTART;TZID=America/Chicago:20240402T190000
DTEND;TZID=America/Chicago:20240402T210000
DTSTAMP:20260425T095140
CREATED:20230815T233813Z
LAST-MODIFIED:20230815T233813Z
UID:3878-1712084400-1712091600@mccallumorchestra.org
SUMMARY:String Orchestra Pre-UIL Concert
DESCRIPTION:Fine Arts Big Theatre
URL:https://mccallumorchestra.org/event/string-orchestra-pre-uil-concert/
LOCATION:Texas
END:VEVENT
BEGIN:VEVENT
DTSTART;TZID=America/Chicago:20240324T173000
DTEND;TZID=America/Chicago:20240324T190000
DTSTAMP:20260425T095140
CREATED:20240219T005006Z
LAST-MODIFIED:20240219T005006Z
UID:4139-1711301400-1711306800@mccallumorchestra.org
SUMMARY:MOB Meeting
DESCRIPTION:
URL:https://mccallumorchestra.org/event/mob-meeting-13/
LOCATION:Violet Crown Coffee Shop\, 7100 Woodrow Ave\, Austin\, Tx\, 78757
ATTACH;FMTTYPE=image/jpeg:https://mccallumorchestra.org/wp-content/uploads/2023/08/256612-e1691419480118.jpeg
END:VEVENT
BEGIN:VEVENT
DTSTART;VALUE=DATE:20240228
DTEND;VALUE=DATE:20240302
DTSTAMP:20260425T095140
CREATED:20230815T233438Z
LAST-MODIFIED:20230815T233543Z
UID:3876-1709078400-1709337599@mccallumorchestra.org
SUMMARY:Full Orchestra UIL
DESCRIPTION:Time TBD
URL:https://mccallumorchestra.org/event/full-orchestra-uil-2/
LOCATION:AISD PAC\, 1500 Barbara Jordan Blvd\, Austin\, TX\, 78723\, United States
ATTACH;FMTTYPE=image/jpeg:https://mccallumorchestra.org/wp-content/uploads/2022/12/14_AISDPerformingArtsCenter_Web.jpeg
END:VEVENT
BEGIN:VEVENT
DTSTART;TZID=America/Chicago:20240218T173000
DTEND;TZID=America/Chicago:20240218T190000
DTSTAMP:20260425T095140
CREATED:20240122T222301Z
LAST-MODIFIED:20240122T222301Z
UID:4134-1708277400-1708282800@mccallumorchestra.org
SUMMARY:MOB Meeting
DESCRIPTION:Join us for our monthly booster club meeting. We will have snacks and drinks 🙂
URL:https://mccallumorchestra.org/event/mob-meeting-12/
LOCATION:Violet Crown Coffee Shop\, 7100 Woodrow Ave\, Austin\, Tx\, 78757
ATTACH;FMTTYPE=image/jpeg:https://mccallumorchestra.org/wp-content/uploads/2023/08/256612-e1691419480118.jpeg
END:VEVENT
BEGIN:VEVENT
DTSTART;VALUE=DATE:20240207
DTEND;VALUE=DATE:20240211
DTSTAMP:20260425T095140
CREATED:20230810T230435Z
LAST-MODIFIED:20230810T230435Z
UID:3855-1707264000-1707609599@mccallumorchestra.org
SUMMARY:TMEA and All State Orchestra
DESCRIPTION:in San Antonio\, TX
URL:https://mccallumorchestra.org/event/tmea-and-all-state-orchestra/
LOCATION:Texas
ATTACH;FMTTYPE=image/jpeg:https://mccallumorchestra.org/wp-content/uploads/2022/12/San-Antonio.jpeg
END:VEVENT
BEGIN:VEVENT
DTSTART;TZID=America/Chicago:20240206T183000
DTEND;TZID=America/Chicago:20240206T203000
DTSTAMP:20260425T095140
CREATED:20230810T230141Z
LAST-MODIFIED:20230810T230141Z
UID:3853-1707244200-1707251400@mccallumorchestra.org
SUMMARY:Full Orchestra Pre-UIL Concert
DESCRIPTION: 6:30 PM @ MAC (With Lamar MS UIL String Orchestras)
URL:https://mccallumorchestra.org/event/full-orchestra-pre-uil-concert/
LOCATION:MAC Theater\, 5600 Sunshine Dr\, Austin\, TX\, 78756\, United States
ATTACH;FMTTYPE=image/jpeg:https://mccallumorchestra.org/wp-content/uploads/2022/12/heroAUS-McCallum-HS-PAC-exterior-dusk-05-0629-1200x630-1.jpeg
END:VEVENT
BEGIN:VEVENT
DTSTART;VALUE=DATE:20240127
DTEND;VALUE=DATE:20240128
DTSTAMP:20260425T095140
CREATED:20230810T225856Z
LAST-MODIFIED:20230810T230755Z
UID:3851-1706313600-1706399999@mccallumorchestra.org
SUMMARY:UIL Solo and Ensemble Contest
DESCRIPTION: UIL Solo and Ensemble @ Akins HS. Please note that a pianist is required for any students participating.  \n 
URL:https://mccallumorchestra.org/event/uil-solo-and-ensemble-contest-pianist-required/
LOCATION:Akins High School\, 10701 S 1st St\, Austin\, TX\, 78748
END:VEVENT
BEGIN:VEVENT
DTSTART;TZID=America/Chicago:20240121T173000
DTEND;TZID=America/Chicago:20240121T190000
DTSTAMP:20260425T095140
CREATED:20231204T003130Z
LAST-MODIFIED:20231204T003130Z
UID:4128-1705858200-1705863600@mccallumorchestra.org
SUMMARY:MOB Meeting
DESCRIPTION:Join us in the orchestra Room for ou rmonthly MOB meetings
URL:https://mccallumorchestra.org/event/mob-meeting-11/
LOCATION:Orchestra Room\, 5600 Sunshine Drive\, Austin\, TX\, 78756\, United States
ATTACH;FMTTYPE=image/jpeg:https://mccallumorchestra.org/wp-content/uploads/2020/03/faa_showcase_8nov2021_20211108_193242-scaled.jpg
END:VEVENT
BEGIN:VEVENT
DTSTART;TZID=America/Chicago:20231213T190000
DTEND;TZID=America/Chicago:20231213T210000
DTSTAMP:20260425T095140
CREATED:20230810T225714Z
LAST-MODIFIED:20231029T232939Z
UID:3849-1702494000-1702501200@mccallumorchestra.org
SUMMARY:Winter Concert
DESCRIPTION:Join us for our annual Winter concert from all 3 orchestras. 
URL:https://mccallumorchestra.org/event/winter-concert/
LOCATION:MAC Theater\, 5600 Sunshine Dr\, Austin\, TX\, 78756\, United States
ATTACH;FMTTYPE=image/jpeg:https://mccallumorchestra.org/wp-content/uploads/2022/12/heroAUS-McCallum-HS-PAC-exterior-dusk-05-0629-1200x630-1.jpeg
END:VEVENT
BEGIN:VEVENT
DTSTART;TZID=America/Chicago:20231203T160000
DTEND;TZID=America/Chicago:20231203T180000
DTSTAMP:20260425T095140
CREATED:20231030T134950Z
LAST-MODIFIED:20231030T134950Z
UID:4125-1701619200-1701626400@mccallumorchestra.org
SUMMARY:MOB meeting
DESCRIPTION:Join us after the ACMC concert in the MAC orchestra room. Drinks and snacks provided. 
URL:https://mccallumorchestra.org/event/mob-meeting-10/
LOCATION:Orchestra Room\, 5600 Sunshine Drive\, Austin\, TX\, 78756\, United States
ATTACH;FMTTYPE=image/jpeg:https://mccallumorchestra.org/wp-content/uploads/2020/03/faa_showcase_8nov2021_20211108_193242-scaled.jpg
END:VEVENT
BEGIN:VEVENT
DTSTART;TZID=America/Chicago:20231203T140000
DTEND;TZID=America/Chicago:20231203T160000
DTSTAMP:20260425T095140
CREATED:20230810T225454Z
LAST-MODIFIED:20230810T225454Z
UID:3847-1701612000-1701619200@mccallumorchestra.org
SUMMARY:ACMC Concert
DESCRIPTION:Performance for students in Chamber Groups across all three orchestras. 
URL:https://mccallumorchestra.org/event/acmc-concert/
LOCATION:McCallum FAT\, 5600 Sunshine Drive\, Austin\, TX\, 78756\, United States
ATTACH;FMTTYPE=image/png:https://mccallumorchestra.org/wp-content/uploads/2022/12/FineArtsBuildingTheatre.png
END:VEVENT
BEGIN:VEVENT
DTSTART;TZID=America/Chicago:20231201T170000
DTEND;TZID=America/Chicago:20231201T200000
DTSTAMP:20260425T095140
CREATED:20231029T231552Z
LAST-MODIFIED:20231029T232410Z
UID:4119-1701450000-1701460800@mccallumorchestra.org
SUMMARY:Mueller Tower Lighthing
DESCRIPTION:Selected 9th-12th grade orchestra students. More information to come 
URL:https://mccallumorchestra.org/event/mueller-tower-lighthing/
LOCATION:Mueller Lake Park\, 4550 Mueller Blvd\, Austin\, TX\, 78723
ATTACH;FMTTYPE=image/jpeg:https://mccallumorchestra.org/wp-content/uploads/2023/10/MuellerAmphitheaterMuellerParkAustinTexasDaytime.jpeg
END:VEVENT
BEGIN:VEVENT
DTSTART;VALUE=DATE:20231116
DTEND;VALUE=DATE:20231119
DTSTAMP:20260425T095140
CREATED:20230810T225128Z
LAST-MODIFIED:20230810T225247Z
UID:3843-1700092800-1700351999@mccallumorchestra.org
SUMMARY:All Region Orchestra
DESCRIPTION:Clinic and Concert. Details to come.  \nStudents that successfully audition and are accepted into the All Region Orchestra will have mandatory practices culminating in a concert. 
URL:https://mccallumorchestra.org/event/all-region-orchestra/
LOCATION:AISD PAC\, 1500 Barbara Jordan Blvd\, Austin\, TX\, 78723\, United States
ATTACH;FMTTYPE=image/jpeg:https://mccallumorchestra.org/wp-content/uploads/2022/12/14_AISDPerformingArtsCenter_Web.jpeg
END:VEVENT
BEGIN:VEVENT
DTSTART;TZID=America/Chicago:20231029T163000
DTEND;TZID=America/Chicago:20231029T183000
DTSTAMP:20260425T095140
CREATED:20230925T192436Z
LAST-MODIFIED:20231018T174315Z
UID:4023-1698597000-1698604200@mccallumorchestra.org
SUMMARY:MOB meeting
DESCRIPTION:
URL:https://mccallumorchestra.org/event/mob-meeting-9/
LOCATION:Bird Bird Biscuit\, 1401 W Koenig Ln\, Austin\, TX\, 78756\, United States
ATTACH;FMTTYPE=image/jpeg:https://mccallumorchestra.org/wp-content/uploads/2023/10/BBB.jpeg
END:VEVENT
BEGIN:VEVENT
DTSTART;VALUE=DATE:20231028
DTEND;VALUE=DATE:20231029
DTSTAMP:20260425T095140
CREATED:20230810T224923Z
LAST-MODIFIED:20230810T224923Z
UID:3841-1698451200-1698537599@mccallumorchestra.org
SUMMARY:TMEA All-State Recording
DESCRIPTION:
URL:https://mccallumorchestra.org/event/tmea-all-state-recording/
LOCATION:AISD PAC\, 1500 Barbara Jordan Blvd\, Austin\, TX\, 78723\, United States
ATTACH;FMTTYPE=image/jpeg:https://mccallumorchestra.org/wp-content/uploads/2022/12/14_AISDPerformingArtsCenter_Web.jpeg
END:VEVENT
BEGIN:VEVENT
DTSTART;TZID=America/Chicago:20231019T190000
DTEND;TZID=America/Chicago:20231019T210000
DTSTAMP:20260425T095140
CREATED:20230810T224757Z
LAST-MODIFIED:20230914T175746Z
UID:3839-1697742000-1697749200@mccallumorchestra.org
SUMMARY:Fall Orchestra Concert: Chamber Orchestra & Advanced Guitar
DESCRIPTION:Chamber Orchestra & Advanced Guitar Fall Concert \, 7:00 PM\, MAC Theater\, 
URL:https://mccallumorchestra.org/event/fall-orchestra-concert-chamber-orchestra-advanced-guitar/
LOCATION:MAC Theater\, 5600 Sunshine Dr\, Austin\, TX\, 78756\, United States
ATTACH;FMTTYPE=image/jpeg:https://mccallumorchestra.org/wp-content/uploads/2022/12/heroAUS-McCallum-HS-PAC-exterior-dusk-05-0629-1200x630-1.jpeg
END:VEVENT
END:VCALENDAR