BEGIN:VCALENDAR
VERSION:2.0
PRODID:-//McCallum High School Orchestra - ECPv6.15.20//NONSGML v1.0//EN
CALSCALE:GREGORIAN
METHOD:PUBLISH
X-ORIGINAL-URL:https://mccallumorchestra.org
X-WR-CALDESC:Events for McCallum High School Orchestra
REFRESH-INTERVAL;VALUE=DURATION:PT1H
X-Robots-Tag:noindex
X-PUBLISHED-TTL:PT1H
BEGIN:VTIMEZONE
TZID:America/Chicago
BEGIN:DAYLIGHT
TZOFFSETFROM:-0600
TZOFFSETTO:-0500
TZNAME:CDT
DTSTART:20240310T080000
END:DAYLIGHT
BEGIN:STANDARD
TZOFFSETFROM:-0500
TZOFFSETTO:-0600
TZNAME:CST
DTSTART:20241103T070000
END:STANDARD
BEGIN:DAYLIGHT
TZOFFSETFROM:-0600
TZOFFSETTO:-0500
TZNAME:CDT
DTSTART:20250309T080000
END:DAYLIGHT
BEGIN:STANDARD
TZOFFSETFROM:-0500
TZOFFSETTO:-0600
TZNAME:CST
DTSTART:20251102T070000
END:STANDARD
BEGIN:DAYLIGHT
TZOFFSETFROM:-0600
TZOFFSETTO:-0500
TZNAME:CDT
DTSTART:20260308T080000
END:DAYLIGHT
BEGIN:STANDARD
TZOFFSETFROM:-0500
TZOFFSETTO:-0600
TZNAME:CST
DTSTART:20261101T070000
END:STANDARD
BEGIN:DAYLIGHT
TZOFFSETFROM:-0600
TZOFFSETTO:-0500
TZNAME:CDT
DTSTART:20270314T080000
END:DAYLIGHT
BEGIN:STANDARD
TZOFFSETFROM:-0500
TZOFFSETTO:-0600
TZNAME:CST
DTSTART:20271107T070000
END:STANDARD
END:VTIMEZONE
BEGIN:VEVENT
DTSTART;VALUE=DATE:20251004
DTEND;VALUE=DATE:20251005
DTSTAMP:20260425T083203
CREATED:20250826T021915Z
LAST-MODIFIED:20250826T021915Z
UID:4363-1759536000-1759622399@mccallumorchestra.org
SUMMARY:All Region Orchestra Auditions
DESCRIPTION:
URL:https://mccallumorchestra.org/event/all-region-orchestra-auditions-2/
LOCATION:James Bowie High School\, 4103 W Slaughter Ln\, Austin\, TX\, 78749\, United States
END:VEVENT
BEGIN:VEVENT
DTSTART;TZID=America/Chicago:20251015T183000
DTEND;TZID=America/Chicago:20251015T200000
DTSTAMP:20260425T083203
CREATED:20250826T022010Z
LAST-MODIFIED:20250826T022010Z
UID:4365-1760553000-1760558400@mccallumorchestra.org
SUMMARY:Fall Concert
DESCRIPTION:with Lamar Middle school
URL:https://mccallumorchestra.org/event/fall-concert-3/
LOCATION:MAC Theater\, 5600 Sunshine Dr\, Austin\, TX\, 78756\, United States
END:VEVENT
BEGIN:VEVENT
DTSTART;TZID=America/Chicago:20251016T190000
DTEND;TZID=America/Chicago:20251016T210000
DTSTAMP:20260425T083203
CREATED:20250826T022117Z
LAST-MODIFIED:20250826T022117Z
UID:4367-1760641200-1760648400@mccallumorchestra.org
SUMMARY:Chamber Fall Concert
DESCRIPTION:Chamber students only. Joint Concert with Advanced Guitar
URL:https://mccallumorchestra.org/event/chamber-fall-concert/
LOCATION:MAC Theater\, 5600 Sunshine Dr\, Austin\, TX\, 78756\, United States
END:VEVENT
BEGIN:VEVENT
DTSTART;TZID=America/Chicago:20251019T180000
DTEND;TZID=America/Chicago:20251019T180000
DTSTAMP:20260425T083203
CREATED:20250925T172409Z
LAST-MODIFIED:20251017T225339Z
UID:4416-1760896800-1760896800@mccallumorchestra.org
SUMMARY:MOB meeting
DESCRIPTION:
URL:https://mccallumorchestra.org/event/mob-meeting-27/
LOCATION:La Madeleine\, 1201 Barbara Jordan\, Austin\, Texas
END:VEVENT
BEGIN:VEVENT
DTSTART;VALUE=DATE:20251025
DTEND;VALUE=DATE:20251026
DTSTAMP:20260425T083203
CREATED:20250826T022346Z
LAST-MODIFIED:20250826T022346Z
UID:4369-1761350400-1761436799@mccallumorchestra.org
SUMMARY:All State Recording
DESCRIPTION:Only students who are auditioning for All State
URL:https://mccallumorchestra.org/event/all-state-recording-2/
LOCATION:Lamar Middle School\, 6201 Wynona Ave\, Austin\, TX\, 78757\, United States
END:VEVENT
BEGIN:VEVENT
DTSTART;VALUE=DATE:20251110
DTEND;VALUE=DATE:20251111
DTSTAMP:20260425T083203
CREATED:20251109T200110Z
LAST-MODIFIED:20251109T200110Z
UID:4543-1762732800-1762819199@mccallumorchestra.org
SUMMARY:P.Terry's Spirit Night
DESCRIPTION:
URL:https://mccallumorchestra.org/event/p-terrys-spirit-night/
LOCATION:P.Terry’s\, 5900 N. Lamar\, Austin\, TX\, 78752
END:VEVENT
BEGIN:VEVENT
DTSTART;TZID=America/Chicago:20251116T183000
DTEND;TZID=America/Chicago:20251116T200000
DTSTAMP:20260425T083203
CREATED:20251109T200226Z
LAST-MODIFIED:20251109T200316Z
UID:4545-1763317800-1763323200@mccallumorchestra.org
SUMMARY:MOB Meeting
DESCRIPTION:
URL:https://mccallumorchestra.org/event/mob-meeting-28/
LOCATION:La Madeleine\, 1201 Barbara Jordan\, Austin\, Texas
END:VEVENT
BEGIN:VEVENT
DTSTART;TZID=America/Chicago:20251117T183000
DTEND;TZID=America/Chicago:20251117T203000
DTSTAMP:20260425T083203
CREATED:20250826T022426Z
LAST-MODIFIED:20251109T200018Z
UID:4372-1763404200-1763411400@mccallumorchestra.org
SUMMARY:FAA Showcase
DESCRIPTION:Chamber Orchestra Only
URL:https://mccallumorchestra.org/event/faa-showcase/
LOCATION:MAC Theater\, 5600 Sunshine Dr\, Austin\, TX\, 78756\, United States
END:VEVENT
BEGIN:VEVENT
DTSTART;VALUE=DATE:20251119
DTEND;VALUE=DATE:20251120
DTSTAMP:20260425T083203
CREATED:20250826T022546Z
LAST-MODIFIED:20250826T022546Z
UID:4374-1763510400-1763596799@mccallumorchestra.org
SUMMARY:Fall Festival
DESCRIPTION:Orchestra Seniors Only
URL:https://mccallumorchestra.org/event/fall-festival-2/
LOCATION:Berger Center\, 3200 Jones Rd\, Austin\, Texas\, 78745
END:VEVENT
BEGIN:VEVENT
DTSTART;VALUE=DATE:20251119
DTEND;VALUE=DATE:20251122
DTSTAMP:20260425T083203
CREATED:20250826T022653Z
LAST-MODIFIED:20250826T022653Z
UID:4377-1763510400-1763769599@mccallumorchestra.org
SUMMARY:Region Orchestra Clinic and Concert
DESCRIPTION:More details to come. 
URL:https://mccallumorchestra.org/event/region-orchestra-clinic-and-concert/
LOCATION:AISD PAC\, 1500 Barbara Jordan Blvd\, Austin\, TX\, 78723\, United States
END:VEVENT
BEGIN:VEVENT
DTSTART;TZID=America/Chicago:20251211T190000
DTEND;TZID=America/Chicago:20251211T210000
DTSTAMP:20260425T083203
CREATED:20250826T022734Z
LAST-MODIFIED:20250826T022734Z
UID:4379-1765479600-1765486800@mccallumorchestra.org
SUMMARY:Masterworks Concert
DESCRIPTION:Chamber Orchestra Only with Mac Choir
URL:https://mccallumorchestra.org/event/masterworks-concert-2/
LOCATION:MAC Theater\, 5600 Sunshine Dr\, Austin\, TX\, 78756\, United States
END:VEVENT
BEGIN:VEVENT
DTSTART;TZID=America/Chicago:20251212T190000
DTEND;TZID=America/Chicago:20251212T210000
DTSTAMP:20260425T083203
CREATED:20250826T022813Z
LAST-MODIFIED:20250826T022813Z
UID:4381-1765566000-1765573200@mccallumorchestra.org
SUMMARY:Winter Concert
DESCRIPTION:
URL:https://mccallumorchestra.org/event/winter-concert-3/
LOCATION:MAC Theater\, 5600 Sunshine Dr\, Austin\, TX\, 78756\, United States
END:VEVENT
BEGIN:VEVENT
DTSTART;TZID=America/Chicago:20251214T140000
DTEND;TZID=America/Chicago:20251214T160000
DTSTAMP:20260425T083203
CREATED:20250826T022855Z
LAST-MODIFIED:20250826T022855Z
UID:4383-1765720800-1765728000@mccallumorchestra.org
SUMMARY:ACMC Recital
DESCRIPTION:Select students only
URL:https://mccallumorchestra.org/event/acmc-recital-2/
LOCATION:McCallum FAT\, 5600 Sunshine Drive\, Austin\, TX\, 78756\, United States
END:VEVENT
BEGIN:VEVENT
DTSTART;TZID=America/Chicago:20260111T180000
DTEND;TZID=America/Chicago:20260111T193000
DTSTAMP:20260425T083203
CREATED:20251223T030232Z
LAST-MODIFIED:20251223T030548Z
UID:4704-1768154400-1768159800@mccallumorchestra.org
SUMMARY:MOB Meeting
DESCRIPTION:Come out to the monthly Booster club meeting!
URL:https://mccallumorchestra.org/event/mob-meeting-29/
LOCATION:La Madeleine\, 1201 Barbara Jordan\, Austin\, Texas
END:VEVENT
BEGIN:VEVENT
DTSTART;VALUE=DATE:20260124
DTEND;VALUE=DATE:20260125
DTSTAMP:20260425T083203
CREATED:20250826T022941Z
LAST-MODIFIED:20250826T022941Z
UID:4385-1769212800-1769299199@mccallumorchestra.org
SUMMARY:UIL Solo and Ensemble
DESCRIPTION:
URL:https://mccallumorchestra.org/event/uil-solo-and-ensemble/
LOCATION:Akins High School\, 10701 S 1st St\, Austin\, TX\, 78748
END:VEVENT
BEGIN:VEVENT
DTSTART;TZID=America/Chicago:20260205T190000
DTEND;TZID=America/Chicago:20260205T210000
DTSTAMP:20260425T083203
CREATED:20250826T023024Z
LAST-MODIFIED:20250826T023024Z
UID:4387-1770318000-1770325200@mccallumorchestra.org
SUMMARY:Pre-UIL Concert
DESCRIPTION:All Orchestra Students
URL:https://mccallumorchestra.org/event/pre-uil-concert-2/
LOCATION:MAC Theater\, 5600 Sunshine Dr\, Austin\, TX\, 78756\, United States
END:VEVENT
BEGIN:VEVENT
DTSTART;VALUE=DATE:20260211
DTEND;VALUE=DATE:20260215
DTSTAMP:20260425T083203
CREATED:20250826T023128Z
LAST-MODIFIED:20250826T023128Z
UID:4389-1770768000-1771113599@mccallumorchestra.org
SUMMARY:All State Orchestra
DESCRIPTION:Select students only. \nSan Antonio\, Texas
URL:https://mccallumorchestra.org/event/all-state-orchestra-2/
END:VEVENT
BEGIN:VEVENT
DTSTART;VALUE=DATE:20260304
DTEND;VALUE=DATE:20260305
DTSTAMP:20260425T083203
CREATED:20250826T023204Z
LAST-MODIFIED:20250826T023204Z
UID:4391-1772582400-1772668799@mccallumorchestra.org
SUMMARY:UIL Full Orchestra
DESCRIPTION:
URL:https://mccallumorchestra.org/event/uil-full-orchestra/
LOCATION:AISD PAC\, 1500 Barbara Jordan Blvd\, Austin\, TX\, 78723\, United States
END:VEVENT
BEGIN:VEVENT
DTSTART;TZID=America/Chicago:20260402T190000
DTEND;TZID=America/Chicago:20260402T210000
DTSTAMP:20260425T083203
CREATED:20250826T023251Z
LAST-MODIFIED:20250826T023251Z
UID:4393-1775156400-1775163600@mccallumorchestra.org
SUMMARY:Pre-UIL String Orchestra Concert
DESCRIPTION:
URL:https://mccallumorchestra.org/event/pre-uil-string-orchestra-concert/
LOCATION:McCallum FAT\, 5600 Sunshine Drive\, Austin\, TX\, 78756\, United States
END:VEVENT
BEGIN:VEVENT
DTSTART;VALUE=DATE:20260409
DTEND;VALUE=DATE:20260411
DTSTAMP:20260425T083203
CREATED:20250826T023344Z
LAST-MODIFIED:20250826T023344Z
UID:4395-1775692800-1775865599@mccallumorchestra.org
SUMMARY:UIL String Orchestra Concert and Sight Reading
DESCRIPTION:Student Workers needed!
URL:https://mccallumorchestra.org/event/uil-string-orchestra-concert-and-sight-reading/
LOCATION:AISD PAC\, 1500 Barbara Jordan Blvd\, Austin\, TX\, 78723\, United States
END:VEVENT
BEGIN:VEVENT
DTSTART;TZID=America/Chicago:20260426T140000
DTEND;TZID=America/Chicago:20260426T160000
DTSTAMP:20260425T083203
CREATED:20250826T023429Z
LAST-MODIFIED:20250826T023429Z
UID:4397-1777212000-1777219200@mccallumorchestra.org
SUMMARY:ACMC Recital
DESCRIPTION:Select students only 
URL:https://mccallumorchestra.org/event/acmc-recital-3/
LOCATION:McCallum FAT\, 5600 Sunshine Drive\, Austin\, TX\, 78756\, United States
END:VEVENT
BEGIN:VEVENT
DTSTART;VALUE=DATE:20260502
DTEND;VALUE=DATE:20260503
DTSTAMP:20260425T083203
CREATED:20250826T023531Z
LAST-MODIFIED:20250826T023531Z
UID:4399-1777680000-1777766399@mccallumorchestra.org
SUMMARY:AISD Solo and Ensemble Contest
DESCRIPTION:Pianist Required!!!!!! \nStudent workers needed
URL:https://mccallumorchestra.org/event/aisd-solo-and-ensemble-contest-2/
LOCATION:McCallum FAT\, 5600 Sunshine Drive\, Austin\, TX\, 78756\, United States
END:VEVENT
BEGIN:VEVENT
DTSTART;TZID=America/Chicago:20260520T190000
DTEND;TZID=America/Chicago:20260520T210000
DTSTAMP:20260425T083203
CREATED:20250826T023613Z
LAST-MODIFIED:20250826T023613Z
UID:4401-1779303600-1779310800@mccallumorchestra.org
SUMMARY:Spring Concert
DESCRIPTION:All Orchestra Students!
URL:https://mccallumorchestra.org/event/spring-concert-4/
LOCATION:MAC Theater\, 5600 Sunshine Dr\, Austin\, TX\, 78756\, United States
END:VEVENT
END:VCALENDAR