BEGIN:VCALENDAR
VERSION:2.0
PRODID:-//McCallum High School Orchestra - ECPv6.15.20//NONSGML v1.0//EN
CALSCALE:GREGORIAN
METHOD:PUBLISH
X-WR-CALNAME:McCallum High School Orchestra
X-ORIGINAL-URL:https://mccallumorchestra.org
X-WR-CALDESC:Events for McCallum High School Orchestra
REFRESH-INTERVAL;VALUE=DURATION:PT1H
X-Robots-Tag:noindex
X-PUBLISHED-TTL:PT1H
BEGIN:VTIMEZONE
TZID:UTC
BEGIN:STANDARD
TZOFFSETFROM:+0000
TZOFFSETTO:+0000
TZNAME:UTC
DTSTART:20220101T000000
END:STANDARD
END:VTIMEZONE
BEGIN:VTIMEZONE
TZID:America/Chicago
BEGIN:DAYLIGHT
TZOFFSETFROM:-0600
TZOFFSETTO:-0500
TZNAME:CDT
DTSTART:20220313T080000
END:DAYLIGHT
BEGIN:STANDARD
TZOFFSETFROM:-0500
TZOFFSETTO:-0600
TZNAME:CST
DTSTART:20221106T070000
END:STANDARD
BEGIN:DAYLIGHT
TZOFFSETFROM:-0600
TZOFFSETTO:-0500
TZNAME:CDT
DTSTART:20230312T080000
END:DAYLIGHT
BEGIN:STANDARD
TZOFFSETFROM:-0500
TZOFFSETTO:-0600
TZNAME:CST
DTSTART:20231105T070000
END:STANDARD
BEGIN:DAYLIGHT
TZOFFSETFROM:-0600
TZOFFSETTO:-0500
TZNAME:CDT
DTSTART:20240310T080000
END:DAYLIGHT
BEGIN:STANDARD
TZOFFSETFROM:-0500
TZOFFSETTO:-0600
TZNAME:CST
DTSTART:20241103T070000
END:STANDARD
END:VTIMEZONE
BEGIN:VTIMEZONE
TZID:America/Chicago
BEGIN:DAYLIGHT
TZOFFSETFROM:-0600
TZOFFSETTO:-0500
TZNAME:CDT
DTSTART:20220313T080000
END:DAYLIGHT
BEGIN:STANDARD
TZOFFSETFROM:-0500
TZOFFSETTO:-0600
TZNAME:CST
DTSTART:20221106T070000
END:STANDARD
BEGIN:DAYLIGHT
TZOFFSETFROM:-0600
TZOFFSETTO:-0500
TZNAME:CDT
DTSTART:20230312T080000
END:DAYLIGHT
BEGIN:STANDARD
TZOFFSETFROM:-0500
TZOFFSETTO:-0600
TZNAME:CST
DTSTART:20231105T070000
END:STANDARD
BEGIN:DAYLIGHT
TZOFFSETFROM:-0600
TZOFFSETTO:-0500
TZNAME:CDT
DTSTART:20240310T080000
END:DAYLIGHT
BEGIN:STANDARD
TZOFFSETFROM:-0500
TZOFFSETTO:-0600
TZNAME:CST
DTSTART:20241103T070000
END:STANDARD
END:VTIMEZONE
BEGIN:VEVENT
DTSTART;VALUE=DATE:20230529
DTEND;VALUE=DATE:20230530
DTSTAMP:20260425T053439
CREATED:20221217T033426Z
LAST-MODIFIED:20221217T003605Z
UID:3489-1685318400-1685404799@mccallumorchestra.org
SUMMARY:TSSEC
DESCRIPTION:
URL:https://mccallumorchestra.org/event/tssec-2/
LOCATION:University of Texas @ Austin
ATTACH;FMTTYPE=image/jpeg:https://mccallumorchestra.org/wp-content/uploads/2022/12/UTexas.jpeg
END:VEVENT
BEGIN:VEVENT
DTSTART;VALUE=DATE:20230527
DTEND;VALUE=DATE:20230528
DTSTAMP:20260425T053439
CREATED:20221217T033327Z
LAST-MODIFIED:20221217T003449Z
UID:3487-1685145600-1685231999@mccallumorchestra.org
SUMMARY:TSSEC
DESCRIPTION:
URL:https://mccallumorchestra.org/event/tssec/
LOCATION:University of Texas @ Austin
ATTACH;FMTTYPE=image/jpeg:https://mccallumorchestra.org/wp-content/uploads/2022/12/UTexas.jpeg
END:VEVENT
BEGIN:VEVENT
DTSTART;TZID=America/Chicago:20230525T190000
DTEND;TZID=America/Chicago:20230525T200000
DTSTAMP:20260425T053439
CREATED:20230520T153500Z
LAST-MODIFIED:20230520T153645Z
UID:3702-1685041200-1685044800@mccallumorchestra.org
SUMMARY:NYC  Trip meeting (zoom)
DESCRIPTION:We will be having a Zoom session to cover a few things about the trip such as rules\, planning\, etc. Zoom information to come. If the Zoom room fills up\, we plan on recording the meeting so it can be viewed at a later time. Please try to come so I can answer any outstanding questions. 
URL:https://mccallumorchestra.org/event/nyc-trip-meeting-zoom/
ATTACH;FMTTYPE=image/webp:https://mccallumorchestra.org/wp-content/uploads/2022/12/new-york-statue-of-liberty_2x1-scaled.webp
END:VEVENT
BEGIN:VEVENT
DTSTART;TZID=America/Chicago:20230521T163000
DTEND;TZID=America/Chicago:20230521T183000
DTSTAMP:20260425T053439
CREATED:20230426T151228Z
LAST-MODIFIED:20230426T151228Z
UID:3688-1684686600-1684693800@mccallumorchestra.org
SUMMARY:MOB meeting
DESCRIPTION:Come and join for the final meeting of the year! We will meet on the picnic benches outside Little Deli and will have snacks and drinks. 
URL:https://mccallumorchestra.org/event/mob-meeting-5/
LOCATION:Violet Crown Coffee Shop\, 7100 Woodrow Ave\, Austin\, Tx\, 78757
ATTACH;FMTTYPE=image/jpeg:https://mccallumorchestra.org/wp-content/uploads/2023/02/littledeli.jpg
END:VEVENT
BEGIN:VEVENT
DTSTART;TZID=America/Chicago:20230518T190000
DTEND;TZID=America/Chicago:20230518T203000
DTSTAMP:20260425T053439
CREATED:20221217T032925Z
LAST-MODIFIED:20221216T222347Z
UID:3478-1684436400-1684441800@mccallumorchestra.org
SUMMARY:Spring Concert
DESCRIPTION:
URL:https://mccallumorchestra.org/event/spring-concert/
LOCATION:MAC Theater\, 5600 Sunshine Dr\, Austin\, TX\, 78756\, United States
ATTACH;FMTTYPE=image/jpeg:https://mccallumorchestra.org/wp-content/uploads/2022/12/heroAUS-McCallum-HS-PAC-exterior-dusk-05-0629-1200x630-1.jpeg
END:VEVENT
BEGIN:VEVENT
DTSTART;VALUE=DATE:20230516
DTEND;VALUE=DATE:20230517
DTSTAMP:20260425T053439
CREATED:20221217T032837Z
LAST-MODIFIED:20221216T232950Z
UID:3476-1684195200-1684281599@mccallumorchestra.org
SUMMARY:Academy Award Night
DESCRIPTION:Time TBD
URL:https://mccallumorchestra.org/event/academy-award-night/
LOCATION:MAC Theater\, 5600 Sunshine Dr\, Austin\, TX\, 78756\, United States
ATTACH;FMTTYPE=image/jpeg:https://mccallumorchestra.org/wp-content/uploads/2022/12/heroAUS-McCallum-HS-PAC-exterior-dusk-05-0629-1200x630-1.jpeg
END:VEVENT
BEGIN:VEVENT
DTSTART;TZID=America/Chicago:20230430T140000
DTEND;TZID=America/Chicago:20230430T160000
DTSTAMP:20260425T053439
CREATED:20221217T032731Z
LAST-MODIFIED:20221216T222428Z
UID:3474-1682863200-1682870400@mccallumorchestra.org
SUMMARY:ACMC Spring Concert
DESCRIPTION:Austin Chamber Music Center Spring Concert
URL:https://mccallumorchestra.org/event/acmc-spring-concert/
LOCATION:McCallum FAT\, 5600 Sunshine Drive\, Austin\, TX\, 78756\, United States
ATTACH;FMTTYPE=image/png:https://mccallumorchestra.org/wp-content/uploads/2022/12/FineArtsBuildingTheatre.png
END:VEVENT
BEGIN:VEVENT
DTSTART;VALUE=DATE:20230429
DTEND;VALUE=DATE:20230430
DTSTAMP:20260425T053439
CREATED:20221217T032606Z
LAST-MODIFIED:20221217T003138Z
UID:3472-1682726400-1682812799@mccallumorchestra.org
SUMMARY:AISD Solo and Ensemble Contest
DESCRIPTION:This year the concert is held at McCallum High School
URL:https://mccallumorchestra.org/event/aisd-solo-and-ensemble-contest/
LOCATION:McCallum FAT\, 5600 Sunshine Drive\, Austin\, TX\, 78756\, United States
ATTACH;FMTTYPE=image/jpeg:https://mccallumorchestra.org/wp-content/uploads/2022/12/McCallumHS-6767.jpeg
END:VEVENT
BEGIN:VEVENT
DTSTART;TZID=America/Chicago:20230423T163000
DTEND;TZID=America/Chicago:20230423T183000
DTSTAMP:20260425T053439
CREATED:20230401T183153Z
LAST-MODIFIED:20230410T234820Z
UID:3683-1682267400-1682274600@mccallumorchestra.org
SUMMARY:MOB Meeting
DESCRIPTION:
URL:https://mccallumorchestra.org/event/mob-meeting-4/
LOCATION:Violet Crown Coffee Shop\, 7100 Woodrow Ave\, Austin\, Tx\, 78757
ATTACH;FMTTYPE=image/jpeg:https://mccallumorchestra.org/wp-content/uploads/2023/02/littledeli.jpg
END:VEVENT
BEGIN:VEVENT
DTSTART;VALUE=DATE:20230411
DTEND;VALUE=DATE:20230413
DTSTAMP:20260425T053439
CREATED:20221217T032153Z
LAST-MODIFIED:20221216T232725Z
UID:3470-1681171200-1681343999@mccallumorchestra.org
SUMMARY:UIL String Competition
DESCRIPTION:Time TBD
URL:https://mccallumorchestra.org/event/uil-string-competition/
LOCATION:AISD PAC\, 1500 Barbara Jordan Blvd\, Austin\, TX\, 78723\, United States
ATTACH;FMTTYPE=image/jpeg:https://mccallumorchestra.org/wp-content/uploads/2022/12/14_AISDPerformingArtsCenter_Web.jpeg
END:VEVENT
BEGIN:VEVENT
DTSTART;TZID=America/Chicago:20230330T080000
DTEND;TZID=America/Chicago:20230330T183000
DTSTAMP:20260425T053439
CREATED:20221217T032055Z
LAST-MODIFIED:20221216T222502Z
UID:3468-1680163200-1680201000@mccallumorchestra.org
SUMMARY:String Pre-UIL Concert
DESCRIPTION:
URL:https://mccallumorchestra.org/event/string-pre-uil-concert/
LOCATION:MAC Theater\, 5600 Sunshine Dr\, Austin\, TX\, 78756\, United States
ATTACH;FMTTYPE=image/jpeg:https://mccallumorchestra.org/wp-content/uploads/2022/12/heroAUS-McCallum-HS-PAC-exterior-dusk-05-0629-1200x630-1.jpeg
END:VEVENT
BEGIN:VEVENT
DTSTART;TZID=America/Chicago:20230319T163000
DTEND;TZID=America/Chicago:20230319T180000
DTSTAMP:20260425T053439
CREATED:20230227T010547Z
LAST-MODIFIED:20230227T145229Z
UID:3674-1679243400-1679248800@mccallumorchestra.org
SUMMARY:MOB meeting
DESCRIPTION:We will meet at the picnic tables outside Little Deli. The restaurant is closed\, but we will have snacks and drinks. 
URL:https://mccallumorchestra.org/event/mob-meeting-3/
LOCATION:Violet Crown Coffee Shop\, 7100 Woodrow Ave\, Austin\, Tx\, 78757
ATTACH;FMTTYPE=image/jpeg:https://mccallumorchestra.org/wp-content/uploads/2023/02/littledeli.jpg
END:VEVENT
BEGIN:VEVENT
DTSTART;VALUE=DATE:20230301
DTEND;VALUE=DATE:20230302
DTSTAMP:20260425T053439
CREATED:20221217T031927Z
LAST-MODIFIED:20230130T004432Z
UID:3465-1677628800-1677715199@mccallumorchestra.org
SUMMARY:Full Orchestra UIL Contest
DESCRIPTION:
URL:https://mccallumorchestra.org/event/full-orchestra-uil/
LOCATION:AISD PAC\, 1500 Barbara Jordan Blvd\, Austin\, TX\, 78723\, United States
ATTACH;FMTTYPE=image/jpeg:https://mccallumorchestra.org/wp-content/uploads/2022/12/14_AISDPerformingArtsCenter_Web.jpeg
END:VEVENT
BEGIN:VEVENT
DTSTART;TZID=America/Chicago:20230226T163000
DTEND;TZID=America/Chicago:20230226T183000
DTSTAMP:20260425T053439
CREATED:20230130T004127Z
LAST-MODIFIED:20230130T004127Z
UID:3646-1677429000-1677436200@mccallumorchestra.org
SUMMARY:MOB meeting
DESCRIPTION:Come! Everyone is welcome 
URL:https://mccallumorchestra.org/event/mob-meeting-2/
LOCATION:Orchestra Room\, 5600 Sunshine Drive\, Austin\, TX\, 78756\, United States
END:VEVENT
BEGIN:VEVENT
DTSTART;VALUE=DATE:20230208
DTEND;VALUE=DATE:20230212
DTSTAMP:20260425T053439
CREATED:20221217T023734Z
LAST-MODIFIED:20221217T003013Z
UID:3446-1675814400-1676159999@mccallumorchestra.org
SUMMARY:TMEA & All State Orchestra
DESCRIPTION:In San Antonio\, Texas
URL:https://mccallumorchestra.org/event/tmea-all-state-orchestra/
ATTACH;FMTTYPE=image/jpeg:https://mccallumorchestra.org/wp-content/uploads/2022/12/San-Antonio.jpeg
END:VEVENT
BEGIN:VEVENT
DTSTART;TZID=America/Chicago:20230207T183000
DTEND;TZID=America/Chicago:20230207T200000
DTSTAMP:20260425T053439
CREATED:20221217T023926Z
LAST-MODIFIED:20230129T232549Z
UID:3449-1675794600-1675800000@mccallumorchestra.org
SUMMARY:Pre-UIL Full Orchestra Concert
DESCRIPTION:
URL:https://mccallumorchestra.org/event/pre-uil-full-orchestra-concert/
LOCATION:MAC Theater\, 5600 Sunshine Dr\, Austin\, TX\, 78756\, United States
ATTACH;FMTTYPE=image/jpeg:https://mccallumorchestra.org/wp-content/uploads/2022/12/heroAUS-McCallum-HS-PAC-exterior-dusk-05-0629-1200x630-1.jpeg
END:VEVENT
BEGIN:VEVENT
DTSTART;TZID=America/Chicago:20230129T163000
DTEND;TZID=America/Chicago:20230129T183000
DTSTAMP:20260425T053439
CREATED:20221217T034439Z
LAST-MODIFIED:20221217T050226Z
UID:3494-1675009800-1675017000@mccallumorchestra.org
SUMMARY:MOB meeting
DESCRIPTION:
URL:https://mccallumorchestra.org/event/mob-meeting/
LOCATION:Orchestra Room\, 5600 Sunshine Drive\, Austin\, TX\, 78756\, United States
ATTACH;FMTTYPE=image/png:https://mccallumorchestra.org/wp-content/uploads/2018/09/orchestra_logo-final-sm.png
END:VEVENT
BEGIN:VEVENT
DTSTART;VALUE=DATE:20230128
DTEND;VALUE=DATE:20230129
DTSTAMP:20260425T053439
CREATED:20221217T023246Z
LAST-MODIFIED:20221216T232547Z
UID:3441-1674864000-1674950399@mccallumorchestra.org
SUMMARY:UIL Solo & Ensemble Competition
DESCRIPTION:
URL:https://mccallumorchestra.org/event/uil-solo-ensemble-competition/
LOCATION:Akins High School\, 10701 S 1st St\, Austin\, TX\, 78748
ATTACH;FMTTYPE=image/jpeg:https://mccallumorchestra.org/wp-content/uploads/2022/12/AkinsHS_8123.jpeg
END:VEVENT
END:VCALENDAR