BEGIN:VCALENDAR
VERSION:2.0
PRODID:-//McCallum High School Orchestra - ECPv6.15.20//NONSGML v1.0//EN
CALSCALE:GREGORIAN
METHOD:PUBLISH
X-ORIGINAL-URL:https://mccallumorchestra.org
X-WR-CALDESC:Events for McCallum High School Orchestra
REFRESH-INTERVAL;VALUE=DURATION:PT1H
X-Robots-Tag:noindex
X-PUBLISHED-TTL:PT1H
BEGIN:VTIMEZONE
TZID:America/Chicago
BEGIN:DAYLIGHT
TZOFFSETFROM:-0600
TZOFFSETTO:-0500
TZNAME:CDT
DTSTART:20220313T080000
END:DAYLIGHT
BEGIN:STANDARD
TZOFFSETFROM:-0500
TZOFFSETTO:-0600
TZNAME:CST
DTSTART:20221106T070000
END:STANDARD
BEGIN:DAYLIGHT
TZOFFSETFROM:-0600
TZOFFSETTO:-0500
TZNAME:CDT
DTSTART:20230312T080000
END:DAYLIGHT
BEGIN:STANDARD
TZOFFSETFROM:-0500
TZOFFSETTO:-0600
TZNAME:CST
DTSTART:20231105T070000
END:STANDARD
BEGIN:DAYLIGHT
TZOFFSETFROM:-0600
TZOFFSETTO:-0500
TZNAME:CDT
DTSTART:20240310T080000
END:DAYLIGHT
BEGIN:STANDARD
TZOFFSETFROM:-0500
TZOFFSETTO:-0600
TZNAME:CST
DTSTART:20241103T070000
END:STANDARD
END:VTIMEZONE
BEGIN:VTIMEZONE
TZID:UTC
BEGIN:STANDARD
TZOFFSETFROM:+0000
TZOFFSETTO:+0000
TZNAME:UTC
DTSTART:20220101T000000
END:STANDARD
END:VTIMEZONE
BEGIN:VTIMEZONE
TZID:America/New_York
BEGIN:DAYLIGHT
TZOFFSETFROM:-0500
TZOFFSETTO:-0400
TZNAME:EDT
DTSTART:20220313T070000
END:DAYLIGHT
BEGIN:STANDARD
TZOFFSETFROM:-0400
TZOFFSETTO:-0500
TZNAME:EST
DTSTART:20221106T060000
END:STANDARD
BEGIN:DAYLIGHT
TZOFFSETFROM:-0500
TZOFFSETTO:-0400
TZNAME:EDT
DTSTART:20230312T070000
END:DAYLIGHT
BEGIN:STANDARD
TZOFFSETFROM:-0400
TZOFFSETTO:-0500
TZNAME:EST
DTSTART:20231105T060000
END:STANDARD
BEGIN:DAYLIGHT
TZOFFSETFROM:-0500
TZOFFSETTO:-0400
TZNAME:EDT
DTSTART:20240310T070000
END:DAYLIGHT
BEGIN:STANDARD
TZOFFSETFROM:-0400
TZOFFSETTO:-0500
TZNAME:EST
DTSTART:20241103T060000
END:STANDARD
END:VTIMEZONE
BEGIN:VEVENT
DTSTART;TZID=America/Chicago:20230601T170000
DTEND;TZID=America/Chicago:20230601T200000
DTSTAMP:20260425T204305
CREATED:20230531T193659Z
LAST-MODIFIED:20230531T193659Z
UID:3704-1685638800-1685649600@mccallumorchestra.org
SUMMARY:Carnegie Hall Rehearsal
DESCRIPTION:Practice for our upcoming performance in NYC
URL:https://mccallumorchestra.org/event/carnegie-hall-rehearsal/
LOCATION:Orchestra Room\, 5600 Sunshine Drive\, Austin\, TX\, 78756\, United States
ATTACH;FMTTYPE=image/jpeg:https://mccallumorchestra.org/wp-content/uploads/2022/12/Safety-Checklist-HERO.jpeg
END:VEVENT
BEGIN:VEVENT
DTSTART;TZID=America/Chicago:20230602T190000
DTEND;TZID=America/Chicago:20230602T203000
DTSTAMP:20260425T204305
CREATED:20230531T193921Z
LAST-MODIFIED:20230531T193921Z
UID:3706-1685732400-1685737800@mccallumorchestra.org
SUMMARY:Concert
DESCRIPTION:Come out and hear our program that we will be taking to Carnegie Hall.  \n 
URL:https://mccallumorchestra.org/event/concert/
LOCATION:MAC Theater\, 5600 Sunshine Dr\, Austin\, TX\, 78756\, United States
ATTACH;FMTTYPE=image/jpeg:https://mccallumorchestra.org/wp-content/uploads/2022/12/heroAUS-McCallum-HS-PAC-exterior-dusk-05-0629-1200x630-1.jpeg
END:VEVENT
BEGIN:VEVENT
DTSTART;TZID=America/Chicago:20230605T170000
DTEND;TZID=America/Chicago:20230605T200000
DTSTAMP:20260425T204305
CREATED:20230531T194255Z
LAST-MODIFIED:20230531T194457Z
UID:3708-1685984400-1685995200@mccallumorchestra.org
SUMMARY:Practice for Carnegie Hall
DESCRIPTION:
URL:https://mccallumorchestra.org/event/practice-for-carnegie-hall/
LOCATION:Orchestra Room\, 5600 Sunshine Drive\, Austin\, TX\, 78756\, United States
ATTACH;FMTTYPE=image/jpeg:https://mccallumorchestra.org/wp-content/uploads/2022/12/Safety-Checklist-HERO.jpeg
END:VEVENT
BEGIN:VEVENT
DTSTART;TZID=America/Chicago:20230606T170000
DTEND;TZID=America/Chicago:20230606T200000
DTSTAMP:20260425T204305
CREATED:20230531T194601Z
LAST-MODIFIED:20230531T194601Z
UID:3711-1686070800-1686081600@mccallumorchestra.org
SUMMARY:Practice for Carnegie Hall
DESCRIPTION:
URL:https://mccallumorchestra.org/event/practice-for-carnegie-hall-2/
LOCATION:Orchestra Room\, 5600 Sunshine Drive\, Austin\, TX\, 78756\, United States
ATTACH;FMTTYPE=image/jpeg:https://mccallumorchestra.org/wp-content/uploads/2022/12/Safety-Checklist-HERO.jpeg
END:VEVENT
BEGIN:VEVENT
DTSTART;VALUE=DATE:20230608
DTEND;VALUE=DATE:20230613
DTSTAMP:20260425T204306
CREATED:20221217T033105Z
LAST-MODIFIED:20221216T235209Z
UID:3482-1686182400-1686614399@mccallumorchestra.org
SUMMARY:Trip to NYC
DESCRIPTION:
URL:https://mccallumorchestra.org/event/trip-to-nyc/
LOCATION:Texas
ATTACH;FMTTYPE=image/webp:https://mccallumorchestra.org/wp-content/uploads/2022/12/new-york-statue-of-liberty_2x1-scaled.webp
END:VEVENT
BEGIN:VEVENT
DTSTART;TZID=America/New_York:20230611T140000
DTEND;TZID=America/New_York:20230611T160000
DTSTAMP:20260425T204306
CREATED:20221217T033027Z
LAST-MODIFIED:20230603T164526Z
UID:3480-1686492000-1686499200@mccallumorchestra.org
SUMMARY:Carnegie Hall Performance
DESCRIPTION:
URL:https://mccallumorchestra.org/event/carnegie-hall-performance/
LOCATION:Carnegie Hall\, 881 7th Ave\, New York\, NY\, 10019\, United States
ATTACH;FMTTYPE=image/jpeg:https://mccallumorchestra.org/wp-content/uploads/2022/12/Safety-Checklist-HERO.jpeg
END:VEVENT
END:VCALENDAR