BEGIN:VCALENDAR
VERSION:2.0
PRODID:-//McCallum High School Orchestra - ECPv6.15.20//NONSGML v1.0//EN
CALSCALE:GREGORIAN
METHOD:PUBLISH
X-ORIGINAL-URL:https://mccallumorchestra.org
X-WR-CALDESC:Events for McCallum High School Orchestra
REFRESH-INTERVAL;VALUE=DURATION:PT1H
X-Robots-Tag:noindex
X-PUBLISHED-TTL:PT1H
BEGIN:VTIMEZONE
TZID:America/Chicago
BEGIN:DAYLIGHT
TZOFFSETFROM:-0600
TZOFFSETTO:-0500
TZNAME:CDT
DTSTART:20230312T080000
END:DAYLIGHT
BEGIN:STANDARD
TZOFFSETFROM:-0500
TZOFFSETTO:-0600
TZNAME:CST
DTSTART:20231105T070000
END:STANDARD
BEGIN:DAYLIGHT
TZOFFSETFROM:-0600
TZOFFSETTO:-0500
TZNAME:CDT
DTSTART:20240310T080000
END:DAYLIGHT
BEGIN:STANDARD
TZOFFSETFROM:-0500
TZOFFSETTO:-0600
TZNAME:CST
DTSTART:20241103T070000
END:STANDARD
BEGIN:DAYLIGHT
TZOFFSETFROM:-0600
TZOFFSETTO:-0500
TZNAME:CDT
DTSTART:20250309T080000
END:DAYLIGHT
BEGIN:STANDARD
TZOFFSETFROM:-0500
TZOFFSETTO:-0600
TZNAME:CST
DTSTART:20251102T070000
END:STANDARD
END:VTIMEZONE
BEGIN:VEVENT
DTSTART;TZID=America/Chicago:20240206T183000
DTEND;TZID=America/Chicago:20240206T203000
DTSTAMP:20260425T080548
CREATED:20230810T230141Z
LAST-MODIFIED:20230810T230141Z
UID:3853-1707244200-1707251400@mccallumorchestra.org
SUMMARY:Full Orchestra Pre-UIL Concert
DESCRIPTION: 6:30 PM @ MAC (With Lamar MS UIL String Orchestras)
URL:https://mccallumorchestra.org/event/full-orchestra-pre-uil-concert/
LOCATION:MAC Theater\, 5600 Sunshine Dr\, Austin\, TX\, 78756\, United States
ATTACH;FMTTYPE=image/jpeg:https://mccallumorchestra.org/wp-content/uploads/2022/12/heroAUS-McCallum-HS-PAC-exterior-dusk-05-0629-1200x630-1.jpeg
END:VEVENT
BEGIN:VEVENT
DTSTART;VALUE=DATE:20240207
DTEND;VALUE=DATE:20240211
DTSTAMP:20260425T080548
CREATED:20230810T230435Z
LAST-MODIFIED:20230810T230435Z
UID:3855-1707264000-1707609599@mccallumorchestra.org
SUMMARY:TMEA and All State Orchestra
DESCRIPTION:in San Antonio\, TX
URL:https://mccallumorchestra.org/event/tmea-and-all-state-orchestra/
LOCATION:Texas
ATTACH;FMTTYPE=image/jpeg:https://mccallumorchestra.org/wp-content/uploads/2022/12/San-Antonio.jpeg
END:VEVENT
BEGIN:VEVENT
DTSTART;TZID=America/Chicago:20240218T173000
DTEND;TZID=America/Chicago:20240218T190000
DTSTAMP:20260425T080548
CREATED:20240122T222301Z
LAST-MODIFIED:20240122T222301Z
UID:4134-1708277400-1708282800@mccallumorchestra.org
SUMMARY:MOB Meeting
DESCRIPTION:Join us for our monthly booster club meeting. We will have snacks and drinks 🙂
URL:https://mccallumorchestra.org/event/mob-meeting-12/
LOCATION:Violet Crown Coffee Shop\, 7100 Woodrow Ave\, Austin\, Tx\, 78757
ATTACH;FMTTYPE=image/jpeg:https://mccallumorchestra.org/wp-content/uploads/2023/08/256612-e1691419480118.jpeg
END:VEVENT
BEGIN:VEVENT
DTSTART;VALUE=DATE:20240228
DTEND;VALUE=DATE:20240302
DTSTAMP:20260425T080548
CREATED:20230815T233438Z
LAST-MODIFIED:20230815T233543Z
UID:3876-1709078400-1709337599@mccallumorchestra.org
SUMMARY:Full Orchestra UIL
DESCRIPTION:Time TBD
URL:https://mccallumorchestra.org/event/full-orchestra-uil-2/
LOCATION:AISD PAC\, 1500 Barbara Jordan Blvd\, Austin\, TX\, 78723\, United States
ATTACH;FMTTYPE=image/jpeg:https://mccallumorchestra.org/wp-content/uploads/2022/12/14_AISDPerformingArtsCenter_Web.jpeg
END:VEVENT
END:VCALENDAR