BEGIN:VCALENDAR
VERSION:2.0
PRODID:-//McCallum High School Orchestra - ECPv6.15.20//NONSGML v1.0//EN
CALSCALE:GREGORIAN
METHOD:PUBLISH
X-ORIGINAL-URL:https://mccallumorchestra.org
X-WR-CALDESC:Events for McCallum High School Orchestra
REFRESH-INTERVAL;VALUE=DURATION:PT1H
X-Robots-Tag:noindex
X-PUBLISHED-TTL:PT1H
BEGIN:VTIMEZONE
TZID:America/Chicago
BEGIN:DAYLIGHT
TZOFFSETFROM:-0600
TZOFFSETTO:-0500
TZNAME:CDT
DTSTART:20230312T080000
END:DAYLIGHT
BEGIN:STANDARD
TZOFFSETFROM:-0500
TZOFFSETTO:-0600
TZNAME:CST
DTSTART:20231105T070000
END:STANDARD
BEGIN:DAYLIGHT
TZOFFSETFROM:-0600
TZOFFSETTO:-0500
TZNAME:CDT
DTSTART:20240310T080000
END:DAYLIGHT
BEGIN:STANDARD
TZOFFSETFROM:-0500
TZOFFSETTO:-0600
TZNAME:CST
DTSTART:20241103T070000
END:STANDARD
BEGIN:DAYLIGHT
TZOFFSETFROM:-0600
TZOFFSETTO:-0500
TZNAME:CDT
DTSTART:20250309T080000
END:DAYLIGHT
BEGIN:STANDARD
TZOFFSETFROM:-0500
TZOFFSETTO:-0600
TZNAME:CST
DTSTART:20251102T070000
END:STANDARD
END:VTIMEZONE
BEGIN:VEVENT
DTSTART;TZID=America/Chicago:20240903T183000
DTEND;TZID=America/Chicago:20240903T203000
DTSTAMP:20260424T211443
CREATED:20240819T192722Z
LAST-MODIFIED:20240904T014948Z
UID:4166-1725388200-1725395400@mccallumorchestra.org
SUMMARY:Family Info Night- "Chicken Dinner"
DESCRIPTION:Mac Orchestra \nCome out for out kick off to the year and learn about all things MAC orchestra. We will meet in the cafeteria. Bring the whole family. We will have food and snacks and present our overview for the year. 
URL:https://mccallumorchestra.org/event/family-info-night-chicken-dinner/
LOCATION:McCallum High School- Cafeteria
ATTACH;FMTTYPE=image/png:https://mccallumorchestra.org/wp-content/uploads/2024/08/Screenshot-2024-09-03-at-8.49.09 PM.png
END:VEVENT
BEGIN:VEVENT
DTSTART;TZID=America/Chicago:20240922T173000
DTEND;TZID=America/Chicago:20240922T190000
DTSTAMP:20260424T211444
CREATED:20240818T234522Z
LAST-MODIFIED:20240922T204253Z
UID:4160-1727026200-1727031600@mccallumorchestra.org
SUMMARY:MOB Meeting
DESCRIPTION:
URL:https://mccallumorchestra.org/event/mob-meeting-17/
LOCATION:Brentwood Social House\, 1601 W Koenig Ln\, Austin\, 78756\, United States
END:VEVENT
BEGIN:VEVENT
DTSTART;VALUE=DATE:20240925
DTEND;VALUE=DATE:20240927
DTSTAMP:20260424T211444
CREATED:20240826T205749Z
LAST-MODIFIED:20240827T135938Z
UID:4169-1727222400-1727395199@mccallumorchestra.org
SUMMARY:ALL City Orchestra
DESCRIPTION:25th & 26th AISD All-City Orchestra\, AISD PAC\, \n(Selected Orchestra Students)
URL:https://mccallumorchestra.org/event/all-city-orchestra/
LOCATION:AISD PAC\, 1500 Barbara Jordan Blvd\, Austin\, TX\, 78723\, United States
END:VEVENT
END:VCALENDAR