BEGIN:VCALENDAR
VERSION:2.0
PRODID:-//McCallum High School Orchestra - ECPv6.15.20//NONSGML v1.0//EN
CALSCALE:GREGORIAN
METHOD:PUBLISH
X-WR-CALNAME:McCallum High School Orchestra
X-ORIGINAL-URL:https://mccallumorchestra.org
X-WR-CALDESC:Events for McCallum High School Orchestra
REFRESH-INTERVAL;VALUE=DURATION:PT1H
X-Robots-Tag:noindex
X-PUBLISHED-TTL:PT1H
BEGIN:VTIMEZONE
TZID:America/Chicago
BEGIN:DAYLIGHT
TZOFFSETFROM:-0600
TZOFFSETTO:-0500
TZNAME:CDT
DTSTART:20230312T080000
END:DAYLIGHT
BEGIN:STANDARD
TZOFFSETFROM:-0500
TZOFFSETTO:-0600
TZNAME:CST
DTSTART:20231105T070000
END:STANDARD
BEGIN:DAYLIGHT
TZOFFSETFROM:-0600
TZOFFSETTO:-0500
TZNAME:CDT
DTSTART:20240310T080000
END:DAYLIGHT
BEGIN:STANDARD
TZOFFSETFROM:-0500
TZOFFSETTO:-0600
TZNAME:CST
DTSTART:20241103T070000
END:STANDARD
BEGIN:DAYLIGHT
TZOFFSETFROM:-0600
TZOFFSETTO:-0500
TZNAME:CDT
DTSTART:20250309T080000
END:DAYLIGHT
BEGIN:STANDARD
TZOFFSETFROM:-0500
TZOFFSETTO:-0600
TZNAME:CST
DTSTART:20251102T070000
END:STANDARD
END:VTIMEZONE
BEGIN:VEVENT
DTSTART;TZID=America/Chicago:20241107T183000
DTEND;TZID=America/Chicago:20241107T203000
DTSTAMP:20260424T180230
CREATED:20240829T170933Z
LAST-MODIFIED:20240829T170933Z
UID:4180-1731004200-1731011400@mccallumorchestra.org
SUMMARY:Fine Arts Academy Showcase
DESCRIPTION:Chamber Orchestra only
URL:https://mccallumorchestra.org/event/fine-arts-academy-showcase/
LOCATION:MAC Theater\, 5600 Sunshine Dr\, Austin\, TX\, 78756\, United States
ATTACH;FMTTYPE=image/jpeg:https://mccallumorchestra.org/wp-content/uploads/2022/12/heroAUS-McCallum-HS-PAC-exterior-dusk-05-0629-1200x630-1.jpeg
END:VEVENT
BEGIN:VEVENT
DTSTART;TZID=America/Chicago:20241110T180000
DTEND;TZID=America/Chicago:20241110T193000
DTSTAMP:20260424T180231
CREATED:20241021T032826Z
LAST-MODIFIED:20241021T032901Z
UID:4256-1731261600-1731267000@mccallumorchestra.org
SUMMARY:Mob Meeting
DESCRIPTION:Come out for our Monthly Mob meeting at Easy Tiger! Enjoy snacks and drinks and find out whats going on in the orchestra!
URL:https://mccallumorchestra.org/event/mob-meeting-19/
LOCATION:Easy Tiger at the Linc\, 6406 N Interstate 35 Frontage Rd #1100\, Austin\, TX\, 78752\, United States
ATTACH;FMTTYPE=image/webp:https://mccallumorchestra.org/wp-content/uploads/2024/10/Easy-Tiger-Ousdie.webp
END:VEVENT
BEGIN:VEVENT
DTSTART;VALUE=DATE:20241114
DTEND;VALUE=DATE:20241115
DTSTAMP:20260424T180231
CREATED:20240829T171020Z
LAST-MODIFIED:20240829T171020Z
UID:4183-1731542400-1731628799@mccallumorchestra.org
SUMMARY:Fall Festival
DESCRIPTION:This event is for seniors only at the Delco center
URL:https://mccallumorchestra.org/event/fall-festival/
LOCATION:Texas
END:VEVENT
BEGIN:VEVENT
DTSTART;TZID=America/Chicago:20241118T170000
DTEND;TZID=America/Chicago:20241118T220000
DTSTAMP:20260424T180231
CREATED:20241022T200312Z
LAST-MODIFIED:20241111T005207Z
UID:4260-1731949200-1731967200@mccallumorchestra.org
SUMMARY:Cabo Bob's Spirit Night Fundraiser
DESCRIPTION:Come out to the Cabo Bobs on Shoal Creek\, eat yummy food\, and support the orchestra! Make sure to let them know you are with the Mac orchestra!
URL:https://mccallumorchestra.org/event/cabo-bobs-spirit-night-fundraiser/
LOCATION:Cabo Bob’s\, 7849 Shoal Creek Blvd\, Austin\, TX\, 78757
END:VEVENT
BEGIN:VEVENT
DTSTART;VALUE=DATE:20241121
DTEND;VALUE=DATE:20241124
DTSTAMP:20260424T180231
CREATED:20240829T171142Z
LAST-MODIFIED:20240829T171142Z
UID:4186-1732147200-1732406399@mccallumorchestra.org
SUMMARY:Region Orchestra Clinic
DESCRIPTION:
URL:https://mccallumorchestra.org/event/region-orchestra-clinic/
LOCATION:AISD PAC\, 1500 Barbara Jordan Blvd\, Austin\, TX\, 78723\, United States
ATTACH;FMTTYPE=image/jpeg:https://mccallumorchestra.org/wp-content/uploads/2022/12/14_AISDPerformingArtsCenter_Web.jpeg
END:VEVENT
END:VCALENDAR