BEGIN:VCALENDAR
VERSION:2.0
PRODID:-//McCallum High School Orchestra - ECPv6.15.20//NONSGML v1.0//EN
CALSCALE:GREGORIAN
METHOD:PUBLISH
X-WR-CALNAME:McCallum High School Orchestra
X-ORIGINAL-URL:https://mccallumorchestra.org
X-WR-CALDESC:Events for McCallum High School Orchestra
REFRESH-INTERVAL;VALUE=DURATION:PT1H
X-Robots-Tag:noindex
X-PUBLISHED-TTL:PT1H
BEGIN:VTIMEZONE
TZID:America/Chicago
BEGIN:DAYLIGHT
TZOFFSETFROM:-0600
TZOFFSETTO:-0500
TZNAME:CDT
DTSTART:20240310T080000
END:DAYLIGHT
BEGIN:STANDARD
TZOFFSETFROM:-0500
TZOFFSETTO:-0600
TZNAME:CST
DTSTART:20241103T070000
END:STANDARD
BEGIN:DAYLIGHT
TZOFFSETFROM:-0600
TZOFFSETTO:-0500
TZNAME:CDT
DTSTART:20250309T080000
END:DAYLIGHT
BEGIN:STANDARD
TZOFFSETFROM:-0500
TZOFFSETTO:-0600
TZNAME:CST
DTSTART:20251102T070000
END:STANDARD
BEGIN:DAYLIGHT
TZOFFSETFROM:-0600
TZOFFSETTO:-0500
TZNAME:CDT
DTSTART:20260308T080000
END:DAYLIGHT
BEGIN:STANDARD
TZOFFSETFROM:-0500
TZOFFSETTO:-0600
TZNAME:CST
DTSTART:20261101T070000
END:STANDARD
END:VTIMEZONE
BEGIN:VEVENT
DTSTART;TZID=America/Chicago:20250112T180000
DTEND;TZID=America/Chicago:20250112T190000
DTSTAMP:20260424T144259
CREATED:20241207T235656Z
LAST-MODIFIED:20241207T235656Z
UID:4283-1736704800-1736708400@mccallumorchestra.org
SUMMARY:MOB Meeting
DESCRIPTION:Come out for the booster club meeting at Easy Tiger!
URL:https://mccallumorchestra.org/event/mob-meeting-21/
LOCATION:Easy Tiger at the Linc\, 6406 N Interstate 35 Frontage Rd #1100\, Austin\, TX\, 78752\, United States
END:VEVENT
BEGIN:VEVENT
DTSTART;VALUE=DATE:20250125
DTEND;VALUE=DATE:20250126
DTSTAMP:20260424T144259
CREATED:20240829T171735Z
LAST-MODIFIED:20240829T171735Z
UID:4194-1737763200-1737849599@mccallumorchestra.org
SUMMARY:UIL Solo and Ensemble Competeition
DESCRIPTION:
URL:https://mccallumorchestra.org/event/uil-solo-and-ensemble-competeition/
LOCATION:Akins High School\, 10701 S 1st St\, Austin\, TX\, 78748
END:VEVENT
BEGIN:VEVENT
DTSTART;TZID=America/Chicago:20250128T160000
DTEND;TZID=America/Chicago:20250128T200000
DTSTAMP:20260424T144259
CREATED:20250113T010318Z
LAST-MODIFIED:20250113T010340Z
UID:4289-1738080000-1738094400@mccallumorchestra.org
SUMMARY:Sonic Profit Share Night
DESCRIPTION:Come out to Sonic on Burnet Road tonight and eat yummy food and support the orchestra. MAC orchestra will get a portion of all profits raised. 
URL:https://mccallumorchestra.org/event/sonic-profit-share-night/
LOCATION:Texas
END:VEVENT
BEGIN:VEVENT
DTSTART;TZID=America/Chicago:20250130T080000
DTEND;TZID=America/Chicago:20250130T170000
DTSTAMP:20260424T144259
CREATED:20250113T004334Z
LAST-MODIFIED:20250113T004404Z
UID:4287-1738224000-1738256400@mccallumorchestra.org
SUMMARY:Austin Symphony performs with MAC
DESCRIPTION:
URL:https://mccallumorchestra.org/event/austin-symphony-performs-with-mac/
LOCATION:Texas
END:VEVENT
END:VCALENDAR