BEGIN:VCALENDAR
VERSION:2.0
PRODID:-//McCallum High School Orchestra - ECPv6.15.20//NONSGML v1.0//EN
CALSCALE:GREGORIAN
METHOD:PUBLISH
X-WR-CALNAME:McCallum High School Orchestra
X-ORIGINAL-URL:https://mccallumorchestra.org
X-WR-CALDESC:Events for McCallum High School Orchestra
REFRESH-INTERVAL;VALUE=DURATION:PT1H
X-Robots-Tag:noindex
X-PUBLISHED-TTL:PT1H
BEGIN:VTIMEZONE
TZID:America/Chicago
BEGIN:DAYLIGHT
TZOFFSETFROM:-0600
TZOFFSETTO:-0500
TZNAME:CDT
DTSTART:20240310T080000
END:DAYLIGHT
BEGIN:STANDARD
TZOFFSETFROM:-0500
TZOFFSETTO:-0600
TZNAME:CST
DTSTART:20241103T070000
END:STANDARD
BEGIN:DAYLIGHT
TZOFFSETFROM:-0600
TZOFFSETTO:-0500
TZNAME:CDT
DTSTART:20250309T080000
END:DAYLIGHT
BEGIN:STANDARD
TZOFFSETFROM:-0500
TZOFFSETTO:-0600
TZNAME:CST
DTSTART:20251102T070000
END:STANDARD
BEGIN:DAYLIGHT
TZOFFSETFROM:-0600
TZOFFSETTO:-0500
TZNAME:CDT
DTSTART:20260308T080000
END:DAYLIGHT
BEGIN:STANDARD
TZOFFSETFROM:-0500
TZOFFSETTO:-0600
TZNAME:CST
DTSTART:20261101T070000
END:STANDARD
END:VTIMEZONE
BEGIN:VEVENT
DTSTART;VALUE=DATE:20250305
DTEND;VALUE=DATE:20250306
DTSTAMP:20260424T113034
CREATED:20250224T013752Z
LAST-MODIFIED:20250224T013823Z
UID:4293-1741132800-1741219199@mccallumorchestra.org
SUMMARY:Full Orchestra UIL Contest
DESCRIPTION:at AISD PAC
URL:https://mccallumorchestra.org/event/full-orchestra-uil-contest/
LOCATION:AISD PAC\, 1500 Barbara Jordan Blvd\, Austin\, TX\, 78723\, United States
END:VEVENT
END:VCALENDAR