BEGIN:VCALENDAR
VERSION:2.0
PRODID:-//McCallum High School Orchestra - ECPv6.15.20//NONSGML v1.0//EN
CALSCALE:GREGORIAN
METHOD:PUBLISH
X-WR-CALNAME:McCallum High School Orchestra
X-ORIGINAL-URL:https://mccallumorchestra.org
X-WR-CALDESC:Events for McCallum High School Orchestra
REFRESH-INTERVAL;VALUE=DURATION:PT1H
X-Robots-Tag:noindex
X-PUBLISHED-TTL:PT1H
BEGIN:VTIMEZONE
TZID:America/Chicago
BEGIN:DAYLIGHT
TZOFFSETFROM:-0600
TZOFFSETTO:-0500
TZNAME:CDT
DTSTART:20240310T080000
END:DAYLIGHT
BEGIN:STANDARD
TZOFFSETFROM:-0500
TZOFFSETTO:-0600
TZNAME:CST
DTSTART:20241103T070000
END:STANDARD
BEGIN:DAYLIGHT
TZOFFSETFROM:-0600
TZOFFSETTO:-0500
TZNAME:CDT
DTSTART:20250309T080000
END:DAYLIGHT
BEGIN:STANDARD
TZOFFSETFROM:-0500
TZOFFSETTO:-0600
TZNAME:CST
DTSTART:20251102T070000
END:STANDARD
BEGIN:DAYLIGHT
TZOFFSETFROM:-0600
TZOFFSETTO:-0500
TZNAME:CDT
DTSTART:20260308T080000
END:DAYLIGHT
BEGIN:STANDARD
TZOFFSETFROM:-0500
TZOFFSETTO:-0600
TZNAME:CST
DTSTART:20261101T070000
END:STANDARD
END:VTIMEZONE
BEGIN:VEVENT
DTSTART;TZID=America/Chicago:20250502T183000
DTEND;TZID=America/Chicago:20250502T210000
DTSTAMP:20260424T080432
CREATED:20250407T003947Z
LAST-MODIFIED:20250407T003947Z
UID:4327-1746210600-1746219600@mccallumorchestra.org
SUMMARY:Orchestra Banquet
DESCRIPTION:Parents\, students and families are all invited to join us for the annual Orchestra Banquet at the Oasis on Lake Travis. 
URL:https://mccallumorchestra.org/event/orchestra-banquet-2/
LOCATION:The Oasis\, 6550 Comanche Trail\,\, Austin\, TX\, 78732\, United States
ATTACH;FMTTYPE=image/jpeg:https://mccallumorchestra.org/wp-content/uploads/2024/04/oasis-11-1.jpg
END:VEVENT
BEGIN:VEVENT
DTSTART;TZID=America/Chicago:20250518T183000
DTEND;TZID=America/Chicago:20250518T200000
DTSTAMP:20260424T080432
CREATED:20250407T011039Z
LAST-MODIFIED:20250407T011039Z
UID:4330-1747593000-1747598400@mccallumorchestra.org
SUMMARY:MOB meeting
DESCRIPTION:Come join us for our monthly meeting!
URL:https://mccallumorchestra.org/event/mob-meeting-24/
LOCATION:Easy Tiger at the Linc\, 6406 N Interstate 35 Frontage Rd #1100\, Austin\, TX\, 78752\, United States
END:VEVENT
BEGIN:VEVENT
DTSTART;TZID=America/Chicago:20250521T190000
DTEND;TZID=America/Chicago:20250521T210000
DTSTAMP:20260424T080432
CREATED:20250224T014423Z
LAST-MODIFIED:20250224T014423Z
UID:4307-1747854000-1747861200@mccallumorchestra.org
SUMMARY:Spring Concert
DESCRIPTION:
URL:https://mccallumorchestra.org/event/spring-concert-3/
LOCATION:MAC Theater\, 5600 Sunshine Dr\, Austin\, TX\, 78756\, United States
END:VEVENT
BEGIN:VEVENT
DTSTART;VALUE=DATE:20250524
DTEND;VALUE=DATE:20250527
DTSTAMP:20260424T080432
CREATED:20250224T014106Z
LAST-MODIFIED:20250224T014106Z
UID:4299-1748044800-1748303999@mccallumorchestra.org
SUMMARY:State Solo and Ensemble
DESCRIPTION:
URL:https://mccallumorchestra.org/event/state-solo-and-ensemble/
LOCATION:University of Texas @ Austin
END:VEVENT
END:VCALENDAR